BEGIN:VCALENDAR
VERSION:2.0
CALSCALE:GREGORIAN
PRODID:-//Diputació de Barcelona//DibaCMS//EN
BEGIN:VEVENT
UID:1550
DTSTAMP:20260420T063821
DTSTART:20110709T000000
DTEND:20110709T000000
SUMMARY:Taller de Clown
LOCATION:
METHOD:PUBLISH
X-WR-CALNAME:ullastrell@ullastrell.cat
X-WR-TIMEZONE:Europe/Madrid
DESCRIPTION:Preu: 12€.
Cal un mínim de participació per tal que l'activitat es dugui a terme.
Per a més informació i inscripcions: Ajuntament d'Ullastrell i Biblioteca J. Massagué.
 Lloc: Organitzador: Ullastrell Jove
URI:https://www.ullastrell.cat/actualitat/agenda/taller-de-clown.html
CLASS:PUBLIC
END:VEVENT
END:VCALENDAR
