BEGIN:VCALENDAR
VERSION:2.0
CALSCALE:GREGORIAN
PRODID:-//Diputació de Barcelona//DibaCMS//EN
BEGIN:VEVENT
UID:1552
DTSTAMP:20260420T063523
DTSTART:20110715T000000
DTEND:20110715T000000
SUMMARY:Sortida jove: Esports d'aigua
LOCATION:
METHOD:PUBLISH
X-WR-CALNAME:ullastrell@ullastrell.cat
X-WR-TIMEZONE:Europe/Madrid
DESCRIPTION:Les activitats d'aigua que es realitzaran seran la banana, el kaiac i el catamarà.


Preu: 24€.
Tots els joves que vulguin participar s'han d'inscriure abans del 8 de juliol a l'Ajuntament d'Ullastrell o a la Biblioteca J. Massagué.Lloc: CambrilsOrganitzador: Ullastrell Jove
URI:https://www.ullastrell.cat/actualitat/agenda/sortida-jove-esports-daigua.html
CLASS:PUBLIC
END:VEVENT
END:VCALENDAR
