BEGIN:VCALENDAR
VERSION:2.0
CALSCALE:GREGORIAN
PRODID:-//Diputació de Barcelona//DibaCMS//EN
BEGIN:VEVENT
UID:1553
DTSTAMP:20260420T063251
DTSTART:20110728T000000
DTEND:20110728T000000
SUMMARY:Sortida jove: Port Aventura
LOCATION:
METHOD:PUBLISH
X-WR-CALNAME:ullastrell@ullastrell.cat
X-WR-TIMEZONE:Europe/Madrid
DESCRIPTION:Preus: de 14 a 17 anys: 28€ / més de 17: 35€.
Inscripcions: A l'Ajuntament d'Ullastrell i a la Biblioteca fins el 15 de Juliol.(*)
 
(*) Cal un mínim de participació per tal de que la sortida es dugui a terme.Lloc: SalouOrganitzador: Ullastrell Jove
URI:https://www.ullastrell.cat/actualitat/agenda/sortida-jove-port-aventura.html
CLASS:PUBLIC
END:VEVENT
END:VCALENDAR
