BEGIN:VCALENDAR
VERSION:2.0
CALSCALE:GREGORIAN
PRODID:-//Diputació de Barcelona//DibaCMS//EN
BEGIN:VEVENT
UID:1554
DTSTAMP:20260420T063312
DTSTART:20110719T000000
DTEND:20110719T000000
SUMMARY:Sortida jove: Canal Olímpic
LOCATION:
METHOD:PUBLISH
X-WR-CALNAME:ullastrell@ullastrell.cat
X-WR-TIMEZONE:Europe/Madrid
DESCRIPTION:Preus: 12€
Inscripcions: A l'Ajuntament d'Ullastrell i a la Biblioteca fins el 8 de Juliol.
 
Cal un mínim de participació per tal de que la sortida es dugui a terme.Lloc: CastelldefelsOrganitzador: Ullastrell Jove
URI:https://www.ullastrell.cat/actualitat/agenda/sortida-jove-canal-olimpic.html
CLASS:PUBLIC
END:VEVENT
END:VCALENDAR
