BEGIN:VCALENDAR
VERSION:2.0
CALSCALE:GREGORIAN
PRODID:-//Diputació de Barcelona//DibaCMS//EN
BEGIN:VEVENT
UID:1555
DTSTAMP:20260420T065038
DTSTART:20110728T220000
DTEND:20110728T000000
SUMMARY:Cinema a la fresca - 28/07/2011
LOCATION:
METHOD:PUBLISH
X-WR-CALNAME:ullastrell@ullastrell.cat
X-WR-TIMEZONE:Europe/Madrid
DESCRIPTION:Cinema a la fresca gratuït.
 
 Lloc: Local de l'OJU (casetes del camp de futbol)Organitzador: Ullastrell Jove i OJU
URI:https://www.ullastrell.cat/actualitat/agenda/cinema-a-la-fresca-28072011.html
CLASS:PUBLIC
END:VEVENT
END:VCALENDAR
