BEGIN:VCALENDAR
VERSION:2.0
CALSCALE:GREGORIAN
PRODID:-//Diputació de Barcelona//DibaCMS//EN
BEGIN:VEVENT
UID:1556
DTSTAMP:20260420T063452
DTSTART:20110717T000000
DTEND:20110717T000000
SUMMARY:Trobada de Puntaires
LOCATION:
METHOD:PUBLISH
X-WR-CALNAME:ullastrell@ullastrell.cat
X-WR-TIMEZONE:Europe/Madrid
DESCRIPTION:Amb motiu de la celebració d'aniversari del Casal, les puntaires d'Ullastrell es trobaran per mostrar a tothom les seves peces.
 
 Lloc: Pista PoliesportivaOrganitzador: Patronat
URI:https://www.ullastrell.cat/actualitat/agenda/trobada-de-puntaires.html
CLASS:PUBLIC
END:VEVENT
END:VCALENDAR
