BEGIN:VCALENDAR
VERSION:2.0
CALSCALE:GREGORIAN
PRODID:-//Diputació de Barcelona//DibaCMS//EN
BEGIN:VEVENT
UID:1558
DTSTAMP:20260420T063605
DTSTART:20110717T000000
DTEND:20110717T000000
SUMMARY:Exposició de Manualitats - 17/07/2011
LOCATION:
METHOD:PUBLISH
X-WR-CALNAME:ullastrell@ullastrell.cat
X-WR-TIMEZONE:Europe/Madrid
DESCRIPTION:Mostra dels treballs realitzats durant el curs de ManualitatsLloc: Sala d'Exposicions del CasalOrganitzador: Patronat
URI:https://www.ullastrell.cat/actualitat/agenda/exposicio-de-manualitats-17072011.html
CLASS:PUBLIC
END:VEVENT
END:VCALENDAR
