BEGIN:VCALENDAR
VERSION:2.0
CALSCALE:GREGORIAN
PRODID:-//Diputació de Barcelona//DibaCMS//EN
BEGIN:VEVENT
UID:1559
DTSTAMP:20260420T064343
DTSTART:20110729T170000
DTEND:20110729T000000
SUMMARY:Un cafè i un llibre per a la gent gran - 29/07/2011
LOCATION:
METHOD:PUBLISH
X-WR-CALNAME:ullastrell@ullastrell.cat
X-WR-TIMEZONE:Europe/Madrid
DESCRIPTION:Petita tertúlia literaria, en que la gent gran acudeix a la biblioteca per canviar i recomanar els llibres.
 
 Lloc: BibliotecaOrganitzador: Biblioteca Josep Massagué
URI:https://www.ullastrell.cat/actualitat/agenda/un-cafe-i-un-llibre-per-a-la-gent-gran-29072011.html
CLASS:PUBLIC
END:VEVENT
END:VCALENDAR
