BEGIN:VCALENDAR
VERSION:2.0
CALSCALE:GREGORIAN
PRODID:-//Diputació de Barcelona//DibaCMS//EN
BEGIN:VEVENT
UID:1569
DTSTAMP:20260420T005028
DTSTART:20101116T190000
DTEND:20101116T210000
SUMMARY:Xerrades-Tallers "Una alimentació sana per als nostres fills/es"
LOCATION:
METHOD:PUBLISH
X-WR-CALNAME:ullastrell@ullastrell.cat
X-WR-TIMEZONE:Europe/Madrid
DESCRIPTION:A càrrec de Nuria Gil Bosch.
 
 Lloc: Llar d'Infants el CucutOrganitzador: Llar d'Infants el Cucut
URI:https://www.ullastrell.cat/actualitat/agenda/xerrades-tallers-una-alimentacio-sana-per-als-nostres-fillses.html
CLASS:PUBLIC
END:VEVENT
END:VCALENDAR
