BEGIN:VCALENDAR
VERSION:2.0
CALSCALE:GREGORIAN
PRODID:-//Diputació de Barcelona//DibaCMS//EN
BEGIN:VEVENT
UID:1570
DTSTAMP:20260420T021506
DTSTART:20101215T200000
DTEND:20101215T220000
SUMMARY:Xerrades-Tallers "Rutines, hàbits i normes"
LOCATION:
METHOD:PUBLISH
X-WR-CALNAME:ullastrell@ullastrell.cat
X-WR-TIMEZONE:Europe/Madrid
DESCRIPTION:A càrrec de Cristina Freixa Porredón.
 
 Lloc: Llar d'Infants el CucutOrganitzador: Llar d'Infants el Cucut
URI:https://www.ullastrell.cat/actualitat/agenda/xerrades-tallers-rutines-habits-i-normes.html
CLASS:PUBLIC
END:VEVENT
END:VCALENDAR
