BEGIN:VCALENDAR
VERSION:2.0
CALSCALE:GREGORIAN
PRODID:-//Diputació de Barcelona//DibaCMS//EN
BEGIN:VEVENT
UID:1571
DTSTAMP:20260420T063837
DTSTART:20110406T190000
DTEND:20110406T000000
SUMMARY:Taller: Educació afectivo-sexual
LOCATION:
METHOD:PUBLISH
X-WR-CALNAME:ullastrell@ullastrell.cat
X-WR-TIMEZONE:Europe/Madrid
DESCRIPTION:L'objectiu del taller és treballar els valors i les actituts necessaries per donar resposta a les necessitats i interessos dels joves en el procès de creixement i maduresa.
Tots els assistents rebran un obsequi.Lloc: Altell del Casal Organitzador: Ajuntament - Joventut
URI:https://www.ullastrell.cat/actualitat/agenda/taller-educacio-afectivo-sexual.html
CLASS:PUBLIC
END:VEVENT
END:VCALENDAR
