BEGIN:VCALENDAR
VERSION:2.0
CALSCALE:GREGORIAN
PRODID:-//Diputació de Barcelona//DibaCMS//EN
BEGIN:VEVENT
UID:2281
DTSTAMP:20260422T081818
DTSTART:20150427T213000
DTEND:20150427T000000
SUMMARY:ACTE PÚBLIC INFORMATIU - 27/04/2015
LOCATION:
METHOD:PUBLISH
X-WR-CALNAME:ullastrell@ullastrell.cat
X-WR-TIMEZONE:Europe/Madrid
DESCRIPTION:Acte informatiu amb els temes del ple del dia 29/4/15 i torn de paraula i preguntesLloc: Altell del CasalOrganitzador: Govern d'Ullastrell
URI:https://www.ullastrell.cat/actualitat/agenda/acte-public-informatiu-27042015.html
CLASS:PUBLIC
END:VEVENT
END:VCALENDAR
