BEGIN:VCALENDAR
VERSION:2.0
CALSCALE:GREGORIAN
PRODID:-//Diputació de Barcelona//DibaCMS//EN
BEGIN:VEVENT
UID:2286
DTSTAMP:20260422T081929
DTSTART:20150510T120000
DTEND:20150510T000000
SUMMARY:EXHIBICIÓ DE VEHICLES D'ÈPOCA - 10/05/2015
LOCATION:
METHOD:PUBLISH
X-WR-CALNAME:ullastrell@ullastrell.cat
X-WR-TIMEZONE:Europe/Madrid
DESCRIPTION:provinents de la Fira Modernista de Terrassa*Per aquest motiu el carrer estarà tallat al transit i no s'hi podrà aparcar des de Can Palet fins a Cal Correu, inclosa la Pl. Lluís CompanysLloc: Organitzador: 
URI:https://www.ullastrell.cat/actualitat/agenda/exhibicio-de-vehicles-depoca-10052015.html
CLASS:PUBLIC
END:VEVENT
END:VCALENDAR
