BEGIN:VCALENDAR
VERSION:2.0
CALSCALE:GREGORIAN
PRODID:-//Diputació de Barcelona//DibaCMS//EN
BEGIN:VEVENT
UID:2287
DTSTAMP:20260422T100242
DTSTART:20150522T213000
DTEND:20150522T000000
SUMMARY:DEBAT ELECTORAL. ELECCIONS MUNICIPALS 2015
LOCATION:
METHOD:PUBLISH
X-WR-CALNAME:ullastrell@ullastrell.cat
X-WR-TIMEZONE:Europe/Madrid
DESCRIPTION:Debat públic on participaran els candidats a l'alcaldia dels grups municipals d'ERC, PSC, CiU i UGO.Lloc: Sala d'Actes del CasalOrganitzador: 
URI:https://www.ullastrell.cat/actualitat/agenda/debat-electoral-eleccions-municipals-2015.html
CLASS:PUBLIC
END:VEVENT
END:VCALENDAR
