BEGIN:VCALENDAR
VERSION:2.0
CALSCALE:GREGORIAN
PRODID:-//Diputació de Barcelona//DibaCMS//EN
BEGIN:VEVENT
UID:2288
DTSTAMP:20260422T100206
DTSTART:20150519T150000
DTEND:20150519T160000
SUMMARY:TALLER DE LACTÀNCIA - 19/05/2015
LOCATION:
METHOD:PUBLISH
X-WR-CALNAME:ullastrell@ullastrell.cat
X-WR-TIMEZONE:Europe/Madrid
DESCRIPTION:A partir del dimarts 19 de maig s’inicia un nou servei de pediatria, amb el suport de la Regidoria de Salut, començaran els tallers de lactància cada dimarts de 15h. a 16h. a l’Altell del Casal. L’Ester Guerrero, infermera del CAP, portarà a terme aquests tallers que són gratuïts per a totes les persones que tenen el CAP Ullastrell com a consultori de referència.
 
Per apuntar-se o demanar informació cal que truqueu al CAP al telèfon 93.730.44.48Lloc: Altell del CasalOrganitzador: Cap Ullastrell
URI:https://www.ullastrell.cat/actualitat/agenda/taller-de-lactancia-19052015.html
CLASS:PUBLIC
END:VEVENT
END:VCALENDAR
