BEGIN:VCALENDAR
VERSION:2.0
CALSCALE:GREGORIAN
PRODID:-//Diputació de Barcelona//DibaCMS//EN
BEGIN:VEVENT
UID:2294
DTSTAMP:20260422T113336
DTSTART:20150520T180000
DTEND:20150520T000000
SUMMARY:Assertiva’t!  a càrrec de Toni Rodríguez (Psicòleg)
LOCATION:
METHOD:PUBLISH
X-WR-CALNAME:ullastrell@ullastrell.cat
X-WR-TIMEZONE:Europe/Madrid
DESCRIPTION:Activitat amb Role-play per a aprendre a solucionar conflictes i resoldre situacions interpersonals. (No cal inscripció).Lloc: Espai Jove, a la Caseta del camp de futbolOrganitzador: Espai Jove
URI:https://www.ullastrell.cat/actualitat/agenda/assertivat-a-carrec-de-toni-rodriguez-psicoleg.html
CLASS:PUBLIC
END:VEVENT
END:VCALENDAR
