BEGIN:VCALENDAR
VERSION:2.0
CALSCALE:GREGORIAN
PRODID:-//Diputació de Barcelona//DibaCMS//EN
BEGIN:VEVENT
UID:2295
DTSTAMP:20260422T125304
DTSTART:20150521T000000
DTEND:20150521T000000
SUMMARY:ExpoJOVE
LOCATION:
METHOD:PUBLISH
X-WR-CALNAME:ullastrell@ullastrell.cat
X-WR-TIMEZONE:Europe/Madrid
DESCRIPTION:Recull d'imatges d'aquest any de l'Espai Jove, en una exposició permanent que es podrà veure en horari laboral dilluns, dimecres i divendres. A partir del 21 de maig.Lloc: Espai Jove, a la Caseta del camp de futbolOrganitzador: Espai Jove
URI:https://www.ullastrell.cat/actualitat/agenda/expojove.html
CLASS:PUBLIC
END:VEVENT
END:VCALENDAR
