BEGIN:VCALENDAR
VERSION:2.0
CALSCALE:GREGORIAN
PRODID:-//Diputació de Barcelona//DibaCMS//EN
BEGIN:VEVENT
UID:2297
DTSTAMP:20260422T131620
DTSTART:20150524T183000
DTEND:20150524T000000
SUMMARY:LA HISTÒRIA DEL NEN QUE NO VOLIA CRÈXIER. PETER PAN
LOCATION:
METHOD:PUBLISH
X-WR-CALNAME:ullastrell@ullastrell.cat
X-WR-TIMEZONE:Europe/Madrid
DESCRIPTION:26a Mostra de teatre. La història del nen que no volia créixer. Peter PanLloc: Sala d'Actes del CasalOrganitzador: GATU
URI:https://www.ullastrell.cat/actualitat/agenda/la-historia-del-nen-que-no-volia-crexier-peter-pan.html
CLASS:PUBLIC
END:VEVENT
END:VCALENDAR
