BEGIN:VCALENDAR
VERSION:2.0
CALSCALE:GREGORIAN
PRODID:-//Diputació de Barcelona//DibaCMS//EN
BEGIN:VEVENT
UID:2299
DTSTAMP:20260422T125130
DTSTART:20150529T190000
DTEND:20150529T210000
SUMMARY:Formació comptable-fiscal per a entitats
LOCATION:
METHOD:PUBLISH
X-WR-CALNAME:ullastrell@ullastrell.cat
X-WR-TIMEZONE:Europe/Madrid
DESCRIPTION:Formació comptable-fiscal per a entitats locals adherides al REMU, a càrrec de Miquel Àngel Díaz. Politòleg i màster en economia social i direcció d'entitats sense ànim de lucre, de la Fundació Pere Tarrés.Lloc: Sala d'ExposicionsOrganitzador: Aljuntament d'Ullastrell
URI:https://www.ullastrell.cat/actualitat/agenda/formacio-comptable-fiscal-per-a-entitats.html
CLASS:PUBLIC
END:VEVENT
END:VCALENDAR
