BEGIN:VCALENDAR
VERSION:2.0
CALSCALE:GREGORIAN
PRODID:-//Diputació de Barcelona//DibaCMS//EN
BEGIN:VEVENT
UID:2302
DTSTAMP:20260422T155234
DTSTART:20150623T200000
DTEND:20150623T000000
SUMMARY:REBUDA DE LA FLAMA DEL CANIGÓ I REVETLLA DE SANT JOAN
LOCATION:
METHOD:PUBLISH
X-WR-CALNAME:ullastrell@ullastrell.cat
X-WR-TIMEZONE:Europe/Madrid
DESCRIPTION:20:00 - Concentració de corredors davant de l'antic  restaurant La Bòbila de Ca n'Amat.
20:15 - Sortida dels corredors passant per la urbanització de Ca n'Amat, el camí Ral i sortint a la carretera, fins a la font del Padró.
21:00 - Rebuda de la Flama del Canigó a la Font del Padró. Lectura del manifest. Cercavila pel poble fins arribar a la foguera situada a l'aparcament de la carretera d'Olesa.  Podeu venir a peu, en bici, patinets,...
Seguidament... Lectura del manifest i encesa de la foguera.
NOTES

Durant tot el dia 23 de juny de 2015, estarà prohibit estacionar en la zona delimitada per la foguera, situada a l'aparcament que hi ha davant de l'antiga escola.
Si algú volgués portar fustes per a la foguera, podrà deixar-les allà el mateix el dimarts 23.
Al llarg de la comitiva i despès a la foguera, demanem el màxim de precaució amb el foc. I si heu de tirar petards recomanem llegiu les indicacions que dona Protecció Civil per a fer revetlles amb precaució.

Organitza: ANC Ullastrell. Col•labora: Geganters i grallers d'Ullastrell. ADF el Roure. Grup de muntanya. Amb el suport de: Ajuntament d'Ullastrell
 Lloc: Organitzador: 
URI:https://www.ullastrell.cat/actualitat/agenda/rebuda-de-la-flama-del-canigo-i-revetlla-de-sant-joan.html
CLASS:PUBLIC
END:VEVENT
END:VCALENDAR
