BEGIN:VCALENDAR
VERSION:2.0
CALSCALE:GREGORIAN
PRODID:-//Diputació de Barcelona//DibaCMS//EN
BEGIN:VEVENT
UID:2303
DTSTAMP:20260422T141711
DTSTART:20150712T090000
DTEND:20150712T000000
SUMMARY:Sortida Caramelles 2015
LOCATION:
METHOD:PUBLISH
X-WR-CALNAME:ullastrell@ullastrell.cat
X-WR-TIMEZONE:Europe/Madrid
DESCRIPTION:Sortida al Parc Aquàtic Marineland el diumenge 12 de Juliol
Hora:

09:00 al Pàrquing de les Escoles

Preus: 

Nens cantaires de caramelles: gratuït
Nens o estudiants no cantaires: 23.90 euros
Adults: 33€
El preu inclou l'autocar, l'entrada al parc i el dinar

Important:

Tots els nens hauran d'anar acompanyats d'un adult

Per confirmar assistència:

Mercè Rodó: 608265656
Mar Carreras: 625766972
Rosa Satorras: 650168872

Data límit per apuntar-se:

9 de juliol
Lloc: MarinelandOrganitzador: Comissió de Caramelles
URI:https://www.ullastrell.cat/actualitat/agenda/sortida-caramelles-2015.html
CLASS:PUBLIC
END:VEVENT
END:VCALENDAR
