BEGIN:VCALENDAR
VERSION:2.0
CALSCALE:GREGORIAN
PRODID:-//Diputació de Barcelona//DibaCMS//EN
BEGIN:VEVENT
UID:2304
DTSTAMP:20260422T095543
DTSTART:20150717T170000
DTEND:20150717T203000
SUMMARY:Donació de sang - 17/07/2015
LOCATION:
METHOD:PUBLISH
X-WR-CALNAME:ullastrell@ullastrell.cat
X-WR-TIMEZONE:Europe/Madrid
DESCRIPTION:Vine a donar sang el divendres 17 de juliol de 17 a 20:30,Lloc: Sala d'ExposicionsOrganitzador: EALU + Banc de Sang i Teixits
URI:https://www.ullastrell.cat/actualitat/agenda/donacio-de-sang-17072015.html
CLASS:PUBLIC
END:VEVENT
END:VCALENDAR
