BEGIN:VCALENDAR
VERSION:2.0
CALSCALE:GREGORIAN
PRODID:-//Diputació de Barcelona//DibaCMS//EN
BEGIN:VEVENT
UID:2305
DTSTAMP:20260422T201415
DTSTART:20150717T213000
DTEND:20150717T233000
SUMMARY:Nit Jove a la Piscina - 17/07/2015
LOCATION:
METHOD:PUBLISH
X-WR-CALNAME:ullastrell@ullastrell.cat
X-WR-TIMEZONE:Europe/Madrid
DESCRIPTION:Vine a la nit jove a la piscina!
Divendres 17 de juliol: Jocs aquàtics i nit en remull.
Divendres 31 de juliol: Nit en remull, còctels sense alcochol i play station
De 21:30h a 23:30h
 Lloc: Piscina municipalOrganitzador: Ullastrell Jove
URI:https://www.ullastrell.cat/actualitat/agenda/nit-jove-a-la-piscina-17072015.html
CLASS:PUBLIC
END:VEVENT
END:VCALENDAR
