BEGIN:VCALENDAR
VERSION:2.0
CALSCALE:GREGORIAN
PRODID:-//Diputació de Barcelona//DibaCMS//EN
BEGIN:VEVENT
UID:2356
DTSTAMP:20260422T081855
DTSTART:20150513T160000
DTEND:20150513T190000
SUMMARY:(R) BIBLIOBÚS - 13/05/2015
LOCATION:
METHOD:PUBLISH
X-WR-CALNAME:ullastrell@ullastrell.cat
X-WR-TIMEZONE:Europe/Madrid
DESCRIPTION:El Bibliobús la Mola, una biblioteca amb rodes de la xarxa de biblioteques de la diputació de Barcelona visita el poble un cop per setmana per dur-nos les darreres novetats literàries.
NOTA: Recordeu que està prohibit aparcar el vehicle a l'accés del bibliobús des de les 13h fins les 20hLloc: Davant la PistaOrganitzador: 
URI:https://www.ullastrell.cat/actualitat/agenda/r-bibliobus-13052015.html
CLASS:PUBLIC
END:VEVENT
END:VCALENDAR
