BEGIN:VCALENDAR
VERSION:2.0
CALSCALE:GREGORIAN
PRODID:-//Diputació de Barcelona//DibaCMS//EN
BEGIN:VEVENT
UID:2390
DTSTAMP:20260422T095911
DTSTART:20150607T180000
DTEND:20150607T000000
SUMMARY:CONCERT  CORAL D'ULLASTRELL
LOCATION:
METHOD:PUBLISH
X-WR-CALNAME:ullastrell@ullastrell.cat
X-WR-TIMEZONE:Europe/Madrid
DESCRIPTION:CONCERT DE LA CORAL D'ULLASTRELLLa Coral d'Ullastrell cantarà durant la missa de Corpus, i al finalitzar oferirà a tots els assistents un petit concertLloc: ESGLÈSIA DE SANTA MARIAOrganitzador: CORAL D'ULLASTRELL
URI:https://www.ullastrell.cat/actualitat/agenda/concert-coral-dullastrell.html
CLASS:PUBLIC
END:VEVENT
END:VCALENDAR
