BEGIN:VCALENDAR
VERSION:2.0
CALSCALE:GREGORIAN
PRODID:-//Diputació de Barcelona//DibaCMS//EN
BEGIN:VEVENT
UID:2417
DTSTAMP:20260422T100350
DTSTART:20150607T180000
DTEND:20150607T000000
SUMMARY:MISSA DE CORPUS - 07/06/2015
LOCATION:
METHOD:PUBLISH
X-WR-CALNAME:ullastrell@ullastrell.cat
X-WR-TIMEZONE:Europe/Madrid
DESCRIPTION:Festivitat del CorpusFestivitat de Corpus, missa solemne cantada per la Coral d'Ullastrell, processó fins el Turó del rector on es beneira tot el terme, al finalitzar petit concert de la Coral d'Ullastrell.
A la plaça podreu veure " l'ou com balla"Lloc: ESGLÈSIA DE SANTA MARIAOrganitzador: PARRÒQUIA DE SANTA MARIA D'ULLASTRELL
URI:https://www.ullastrell.cat/actualitat/agenda/missa-de-corpus-07062015.html
CLASS:PUBLIC
END:VEVENT
END:VCALENDAR
