BEGIN:VCALENDAR
VERSION:2.0
CALSCALE:GREGORIAN
PRODID:-//Diputació de Barcelona//DibaCMS//EN
BEGIN:VEVENT
UID:2460
DTSTAMP:20260422T141402
DTSTART:20150509T090000
DTEND:20150509T100000
SUMMARY:FUTBOL PREBENJAMÍ: EL CIM- SERRALAVELLA
LOCATION:
METHOD:PUBLISH
X-WR-CALNAME:ullastrell@ullastrell.cat
X-WR-TIMEZONE:Europe/Madrid
DESCRIPTION:Partit de futbol categoria prebenjamíPartit de futbol categoria prebenjamí, campionat escolar 2014-2015Lloc: Camp de futbol Sant Pere NordOrganitzador: AGU
URI:https://www.ullastrell.cat/actualitat/agenda/2460-futbol-prebenjami-el-cim-serralavella.html
CLASS:PUBLIC
END:VEVENT
END:VCALENDAR
