BEGIN:VCALENDAR
VERSION:2.0
CALSCALE:GREGORIAN
PRODID:-//Diputació de Barcelona//DibaCMS//EN
BEGIN:VEVENT
UID:2488
DTSTAMP:20260422T142449
DTSTART:20150731T213000
DTEND:20150731T233000
SUMMARY:NIT JOVE a la Piscina - 31/07/2015
LOCATION:
METHOD:PUBLISH
X-WR-CALNAME:ullastrell@ullastrell.cat
X-WR-TIMEZONE:Europe/Madrid
DESCRIPTION:Vine a les nits joves a la piscina!
Divendres 17 de juliol: Jocs aquàtics i nit en remull.
Divendres 31 de juliol: Nit en remull, còctels sense alcochol i play station
De 21:30h a 23:30h
 Lloc: Piscina municipalOrganitzador: Ullastrell Jove
URI:https://www.ullastrell.cat/actualitat/agenda/nit-jove-a-la-piscina-31072015.html
CLASS:PUBLIC
END:VEVENT
END:VCALENDAR
