BEGIN:VCALENDAR
VERSION:2.0
CALSCALE:GREGORIAN
PRODID:-//Diputació de Barcelona//DibaCMS//EN
BEGIN:VEVENT
UID:2489
DTSTAMP:20260422T125320
DTSTART:20150711T180000
DTEND:20150711T000000
SUMMARY:Concert de la Coral AAACEMA (València) I Coral d'Ullastrell
LOCATION:
METHOD:PUBLISH
X-WR-CALNAME:ullastrell@ullastrell.cat
X-WR-TIMEZONE:Europe/Madrid
DESCRIPTION:Concert de la Coral AAACEMA (València) i de la coral d'Ullastrell
Entrada gratuita. Aforament limitatLloc: Casal CulturalOrganitzador: Coral d'Ullastrell
URI:https://www.ullastrell.cat/actualitat/agenda/concert-de-la-coral-aaacema-valencia-i-coral-dullastrell.html
CLASS:PUBLIC
END:VEVENT
END:VCALENDAR
