BEGIN:VCALENDAR
VERSION:2.0
CALSCALE:GREGORIAN
PRODID:-//Diputació de Barcelona//DibaCMS//EN
BEGIN:VEVENT
UID:2490
DTSTAMP:20260422T130434
DTSTART:20150721T120000
DTEND:20150721T130000
SUMMARY:OFICINA MÒBIL DEL CONSUMIDOR - 21/07/2015
LOCATION:
METHOD:PUBLISH
X-WR-CALNAME:ullastrell@ullastrell.cat
X-WR-TIMEZONE:Europe/Madrid
DESCRIPTION:VISITA DE L'OFICINA MÒBIL DEL CONSUMIDORL'oficina mòbil del consumidor és un  servei gratuït que té com a finalitat bàsica defensar els drets dels consumidors, l'oficina recull tot tipus de consultes sobre consum, rebuts de companyies elèctriques, de telèfonia, agències de viatges, compra d'electrodomèstics, etc.Lloc: DAVANT DE L'AJUNTAMENTOrganitzador: AJUNTAMENT- DIPUTACIÓ DE BARCELONA
URI:https://www.ullastrell.cat/actualitat/agenda/oficina-mobil-del-consumidor-21072015.html
CLASS:PUBLIC
END:VEVENT
END:VCALENDAR
