BEGIN:VCALENDAR
VERSION:2.0
CALSCALE:GREGORIAN
PRODID:-//Diputació de Barcelona//DibaCMS//EN
BEGIN:VEVENT
UID:2491
DTSTAMP:20260422T111925
DTSTART:20150718T220000
DTEND:20150719T220000
SUMMARY:25è Aniversari del Casal
LOCATION:
METHOD:PUBLISH
X-WR-CALNAME:ullastrell@ullastrell.cat
X-WR-TIMEZONE:Europe/Madrid
DESCRIPTION:Enguany el Casal d'Ullastrell fa vint-i-cinc anys, i ho fa carregat d'activitats. No te les perdis!
 
Lloc: Casal CulturalOrganitzador: Patronat del Casal
URI:https://www.ullastrell.cat/actualitat/agenda/25e-aniversari-del-casal.html
CLASS:PUBLIC
END:VEVENT
END:VCALENDAR
