BEGIN:VCALENDAR
VERSION:2.0
CALSCALE:GREGORIAN
PRODID:-//Diputació de Barcelona//DibaCMS//EN
BEGIN:VEVENT
UID:2492
DTSTAMP:20260422T130531
DTSTART:20150721T200000
DTEND:20150721T000000
SUMMARY:ACTE PÚBLIC INFORMATIU - Govern municipal
LOCATION:
METHOD:PUBLISH
X-WR-CALNAME:ullastrell@ullastrell.cat
X-WR-TIMEZONE:Europe/Madrid
DESCRIPTION:Acte públic informatiu obert a tots els veïns i veïnes d'Ullastrell.Abans de cada ple, el Govern d'Ullastrell convoca un acte públic per explicar els punts de l'ordre del dia que s'hi debatran i torn obert de preguntes pels dubtes dels veïns.
Us adjuntem la convocatoria del Ple Ordinari pel dimecres 22 de Juliol a les 20h. a la Sala de Plens de l'Ajuntament d'Ullastrell.Lloc: L'Altell  - Casal CulturalOrganitzador: Ajuntament d'Ullastrell
URI:https://www.ullastrell.cat/actualitat/agenda/2492-acte-public-informatiu-govern-municipal.html
CLASS:PUBLIC
END:VEVENT
END:VCALENDAR
