BEGIN:VCALENDAR
VERSION:2.0
CALSCALE:GREGORIAN
PRODID:-//Diputació de Barcelona//DibaCMS//EN
BEGIN:VEVENT
UID:2493
DTSTAMP:20260422T155408
DTSTART:20150722T200000
DTEND:20150722T000000
SUMMARY:PLE ORDINARI - JULIOL 2015
LOCATION:
METHOD:PUBLISH
X-WR-CALNAME:ullastrell@ullastrell.cat
X-WR-TIMEZONE:Europe/Madrid
DESCRIPTION:Ple ordinari trimestralCom cada final de trimestre, es convoca el ple ordinari de l'Ajuntament d'Ullastrell.
S'adjunta la convocatòria amb els punts de l'ordre del dia.
El dimarts 21 de juliol a les 20h. a l'Altell del Casal es farà l'habitual acte públic d'abans del ple per tractar els temes amb els veïns i veïnes.Lloc: Sala de plens - Ajuntament d'UllastrellOrganitzador: Ajuntament d'Ullastrell
URI:https://www.ullastrell.cat/actualitat/agenda/ple-ordinari-juliol-2015.html
CLASS:PUBLIC
END:VEVENT
END:VCALENDAR
