BEGIN:VCALENDAR
VERSION:2.0
CALSCALE:GREGORIAN
PRODID:-//Diputació de Barcelona//DibaCMS//EN
BEGIN:VEVENT
UID:2494
DTSTAMP:20260422T125024
DTSTART:20150729T090000
DTEND:20150729T130000
SUMMARY:ESTACIÓ ITV - Unitat mòbil
LOCATION:
METHOD:PUBLISH
X-WR-CALNAME:ullastrell@ullastrell.cat
X-WR-TIMEZONE:Europe/Madrid
DESCRIPTION:Revisió ITV per a tractors, maquinària agrícola i ciclomotorsEl pròxim dimecres 29 de juliol de 2015, de 9h. a 13h. a la Pista, hi haurà una estació mòbil de la ITV per a vehicles agrícoles, ciclomotors (fins a 49 cc), i maquinària d'obres i serveis.
Qui hi estigui interessat, cal que truqui a l'Ajuntament per demanar cita al telèfon 93 788 72 62.
 
PERIODICITAT DE LES INSPECCIONS
D'acord amb el RD 2042/1994 de 14 d'octubre que regula la inspecció tècnica de    vehicles la primera inspecció ITV, a vehicles agrícoles, es realitzarà als 8 anys de la    data de primera matriculació, per a vehicles ciclomotors la primera inspecció ITV es    realitzarà als 3 anys de la primera matriculació. (Per a més informació dels terminis de    revisió de ciclomotors consultar DOGC de 14/01/2009 nº 5296)
 Lloc: Pista PoliesportivaOrganitzador: Ajuntament Ullastrell - Medi Ambient
URI:https://www.ullastrell.cat/actualitat/agenda/estacio-itv-unitat-mobil.html
CLASS:PUBLIC
END:VEVENT
END:VCALENDAR
