BEGIN:VCALENDAR
VERSION:2.0
CALSCALE:GREGORIAN
PRODID:-//Diputació de Barcelona//DibaCMS//EN
BEGIN:VEVENT
UID:2495
DTSTAMP:20260422T124946
DTSTART:20150813T000000
DTEND:20150816T000000
SUMMARY:FESTA MAJOR ULLASTRELL 2015
LOCATION:
METHOD:PUBLISH
X-WR-CALNAME:ullastrell@ullastrell.cat
X-WR-TIMEZONE:Europe/Madrid
DESCRIPTION:Quatre dies de festa grossa a Ullastrell!
Podeu consultar totes les activitats en el programa adjunt.Lloc: Organitzador: 
URI:https://www.ullastrell.cat/actualitat/agenda/festa-major-ullastrell-2015.html
CLASS:PUBLIC
END:VEVENT
END:VCALENDAR
