BEGIN:VCALENDAR
VERSION:2.0
CALSCALE:GREGORIAN
PRODID:-//Diputació de Barcelona//DibaCMS//EN
BEGIN:VEVENT
UID:2497
DTSTAMP:20260422T141525
DTSTART:20150813T100000
DTEND:20150813T000000
SUMMARY:DIJOUS 13 - FESTA MAJOR 2015
LOCATION:
METHOD:PUBLISH
X-WR-CALNAME:ullastrell@ullastrell.cat
X-WR-TIMEZONE:Europe/Madrid
DESCRIPTION:Avui comença la Festa Major amb els següents actes:
 
10:00h. al Casal - IVª MARATÓ FOTOGRÀFICA
13:00h. Sala Exposicions Casal -  INAUGURACIÓ VIIª EXPOSICIÓ DE FOTOGRAFIES
13:30h. al Casal - SORTEIG DE TAULES
16:30h. Camp de futbol - CAMPIONAT DE PETANCA
17:30h. Davant Ajuntament - CERCAVILA BICIS GUARNIDES
21:00h. Església - REPIC GENERAL DE CAMPANES
21:05h. Ajuntament - PREGÓ A CÀRREC DEL Sr. JAUME RODÓ SOLÉ
seguidament...
CONCURS MEGA-BASKET ULLASvsTRELL
RESSOPÓ POPULAR
22:30h Serra - REMEMBER MUSIC SHOW
24:00h. Casetes Camp Futbol - PUNXA DISCOS REMEMBER
 Lloc: Organitzador: 
URI:https://www.ullastrell.cat/actualitat/agenda/dijous-13-festa-major-2015.html
CLASS:PUBLIC
END:VEVENT
END:VCALENDAR
