BEGIN:VCALENDAR
VERSION:2.0
CALSCALE:GREGORIAN
PRODID:-//Diputació de Barcelona//DibaCMS//EN
BEGIN:VEVENT
UID:2499
DTSTAMP:20260422T124925
DTSTART:20150815T093000
DTEND:20150815T000000
SUMMARY:DISSABTE 15 - FESTA MAJOR 2015
LOCATION:
METHOD:PUBLISH
X-WR-CALNAME:ullastrell@ullastrell.cat
X-WR-TIMEZONE:Europe/Madrid
DESCRIPTION:Actes del dissabte de Festa Major:
 
09:30h. pel poble - MATINES AMB ELS GRALLERS D'ULLASTRELL
11:00h. davant Ajuntament - XOCOLATADA POPULAR
11:30h. davant Ajuntament - RECOLLIDA DE RAMS PER A LA OFRENA FLORAL
12:00h. davant Ajuntament - SORTIDA CERCAVILA GEGANTERA
12:30h. Església - OFRENA FLORAL I MISSA DE FESTA MAJOR
17:30h. C/Ridameya - PARADETES ACTIVITATS INFANTILS
18:30h. a la Serra - XIIIª TROBADA D'INTERCANVI DE PLAQUES DE CAVA
19:00h. a la Serra - XXè CONCURS DE TASTAVINS
21:00h. Casetes camp de futbol - PETABARRES AMB BATUCADA i BOTIFARRADA POPULAR
22:30h. Casal Cultural - TEATRE "TOP MODEL"
23:00h. Casetes camp futbol - TASTABIRRES
24:00h. a la Serra - CONCERT amb "SENSE SAL" i "FEST'N'CAT"
24:00h. Casetes camp futbol - Concert amb "DIEGO ALL STARS" i "DJ SHOW P de PACU"
02:00h. Casetes camp futbol - LLANÇAMENT DE BIRRA SENSE ALCOHOL
 Lloc: Organitzador: 
URI:https://www.ullastrell.cat/actualitat/agenda/dissabte-15-festa-major-2015.html
CLASS:PUBLIC
END:VEVENT
END:VCALENDAR
