BEGIN:VCALENDAR
VERSION:2.0
CALSCALE:GREGORIAN
PRODID:-//Diputació de Barcelona//DibaCMS//EN
BEGIN:VEVENT
UID:2500
DTSTAMP:20260422T142331
DTSTART:20150816T120000
DTEND:20150816T000000
SUMMARY:DIUMENGE 16 - FESTA MAJOR 2015
LOCATION:
METHOD:PUBLISH
X-WR-CALNAME:ullastrell@ullastrell.cat
X-WR-TIMEZONE:Europe/Madrid
DESCRIPTION:

Actes del diumenge de Festa Major:
12.00h. Costat del Pati de les Moreres - FESTA DE L'ESCUMA
12:30h. Església - MISSA COLLA GENT GRAN
13:15h. a la Pista - Show amb MAITE CARRERAS
14:15h. a la Pista - VERMUT POPULAR
15:00h. a la Pista - DINAR POPULAR
17:00h. a l'Altell del Casal - CAMPIONAT DE BOTIFARRA
18:00h. al Camp de futbol - TORNEIG FUTBOL ULLAS vs TRELL
18:00h. a l'Era del Taiet - XIè CONCURS DE PARXÍS
18:00h. a l'Era del Taiet - III TORNEIG d'ESCACS LLAMPEC DE FESTA MAJOR
22:30h. a la Serra - HAVANERES amb el grup MORRALLA
FI DE FESTA AMB ROM CREMAT I COCA!!
*A la mitja part de les Havaneres s'entregaran els premis de la Festa Major.Lloc: Organitzador: 
URI:https://www.ullastrell.cat/actualitat/agenda/diumenge-16-festa-major-2015.html
CLASS:PUBLIC
END:VEVENT
END:VCALENDAR
