BEGIN:VCALENDAR
VERSION:2.0
CALSCALE:GREGORIAN
PRODID:-//Diputació de Barcelona//DibaCMS//EN
BEGIN:VEVENT
UID:2501
DTSTAMP:20260422T143320
DTSTART:20150905T093000
DTEND:20150905T133000
SUMMARY:DEIXALLERIA MÒBIL - 05/09/2015
LOCATION:
METHOD:PUBLISH
X-WR-CALNAME:ullastrell@ullastrell.cat
X-WR-TIMEZONE:Europe/Madrid
DESCRIPTION:Com cada primer dissabte de mes ens visita la deixalleria mòbilLa deixalleria mòbil, és un servei gratuït que es dóna cada primer dissabte de mes, on la gent pot dipositar tots aquells materials, que no corresponen a cap dels contenidors habituals tals com, pintures, aerosols, esprais, olis vegetals i de cotxe, petits electrodòmestics, ferralla informàtica, mòbils, fluorescents, etc.
Recordem que els trastos i mobles vells es venen a recollir a casa trucant prèviament al 902.464.465
 Lloc: Pl. Lluís Companys / Pl. Serralavella / C. Arquitecte AlsiusOrganitzador: REGIDORIA MEDI AMBIENT
URI:https://www.ullastrell.cat/actualitat/agenda/deixalleria-mobil-05092015.html
CLASS:PUBLIC
END:VEVENT
END:VCALENDAR
