BEGIN:VCALENDAR
VERSION:2.0
CALSCALE:GREGORIAN
PRODID:-//Diputació de Barcelona//DibaCMS//EN
BEGIN:VEVENT
UID:2502
DTSTAMP:20260422T142555
DTSTART:20150901T150000
DTEND:20150901T160000
SUMMARY:TALLER DE LACTÀNCIA - 01/09/2015
LOCATION:
METHOD:PUBLISH
X-WR-CALNAME:ullastrell@ullastrell.cat
X-WR-TIMEZONE:Europe/Madrid
DESCRIPTION:S'inicia de nou, a partir del dia 1 de setembre i tots els dimarts de 15h. a 16h. a l'Altell del Casal, el Taller de Lactància que ofereix el CAP Ullastrell amb el suport de la Regidoria de Salut.
L'Ester Guerrero, infermera del CAP, portarà a terme aquests tallers que són gratuïts per a totes les persones que tenen el CAP Ullastrell com a consultori de referència.
Per apuntar-se o demanar informació cal que truqueu al telèfon del CAP: 93.730.44.48Lloc: L'Altell - Casal CulturalOrganitzador: CAP Ullastrell / Reg. Salut
URI:https://www.ullastrell.cat/actualitat/agenda/taller-de-lactancia-01092015.html
CLASS:PUBLIC
END:VEVENT
END:VCALENDAR
