BEGIN:VCALENDAR
VERSION:2.0
CALSCALE:GREGORIAN
PRODID:-//Diputació de Barcelona//DibaCMS//EN
BEGIN:VEVENT
UID:2504
DTSTAMP:20260422T113224
DTSTART:20150915T120000
DTEND:20150915T130000
SUMMARY:OFICINA MÒBIL DEL CONSUMIDOR - 15/09/2015
LOCATION:
METHOD:PUBLISH
X-WR-CALNAME:ullastrell@ullastrell.cat
X-WR-TIMEZONE:Europe/Madrid
DESCRIPTION:Oficina mòbil del consumidorL'oficina mòbil del consumidor és un servei gratuït que ofereix la Diputació de Barcelona, on els consumidors poden fer tot tipus de consultes referents a les seves factures o serveis de gas, telefonia, electricitat, agències de viatges, despeses bancàries etc.Lloc: Davant de l'AjuntamentOrganitzador: Ajuntament
URI:https://www.ullastrell.cat/actualitat/agenda/oficina-mobil-del-consumidor-15092015.html
CLASS:PUBLIC
END:VEVENT
END:VCALENDAR
