BEGIN:VCALENDAR
VERSION:2.0
CALSCALE:GREGORIAN
PRODID:-//Diputació de Barcelona//DibaCMS//EN
BEGIN:VEVENT
UID:2505
DTSTAMP:20260422T162953
DTSTART:20150910T220000
DTEND:20150910T000000
SUMMARY:ACTES 11 DE SETEMBRE - Marxa de Torxes i Correfoc
LOCATION:
METHOD:PUBLISH
X-WR-CALNAME:ullastrell@ullastrell.cat
X-WR-TIMEZONE:Europe/Madrid
DESCRIPTION:Concentració a la Pista per sortir cap al Turó del Rector amb la Marxa de Torxes i correfoc a càrrec dels Diables de Castellbisbal.
Recorregut: C/Josep Fornell, Crta. Olesa, c/Sardà, C/Nord, Pl.Padró, C/ Assumpció i Pl. Església.
 
Duran la Marxa de Torxes ens acompanyaran els Geganters i Grallers d'Ullastrell

 *AVÍS:
Al llarg de la Marxa de Torxes hi haurà restriccions de trànsit.
Recomanacions pel Correfoc:

No aparqueu el vostre vehicle en cap zona per on hagi de passar el correfoc, ni en carrers propers al del recorregut.
En els carrers del recorregut i propers, retireu tots els elements que puguin cremar de balcons, terrasses,... i protegiu portes i finestres.
Per participar al correfoc cal portar roba de cotó, coll tancat, màniga llarga, mocador de coll, barretina o barret, calçat flexible, lleuger i tancat, L'organització desaconsella que hi participin tots aquells que no puguin complir aquestes mesures de seguretat.
Ni els infants més petits, ni els cotxets de nadons en cap cas han d'estar a primera línia de foc.
Tot el públic participant al correfoc és responsable en primer i únic terme dels accidents que hi puguin succeir.
Lloc: Pista PoliesportivaOrganitzador: Ajuntament Ullastrell - Reg. Cultura
URI:https://www.ullastrell.cat/actualitat/agenda/actes-11-de-setembre-marxa-de-torxes-i-correfoc.html
CLASS:PUBLIC
END:VEVENT
END:VCALENDAR
