BEGIN:VCALENDAR
VERSION:2.0
CALSCALE:GREGORIAN
PRODID:-//Diputació de Barcelona//DibaCMS//EN
BEGIN:VEVENT
UID:2507
DTSTAMP:20260422T143652
DTSTART:20150911T123000
DTEND:20150911T203000
SUMMARY:ACTES 11 DE SETEMBRE - Via Lliure cap a la República Catalana
LOCATION:
METHOD:PUBLISH
X-WR-CALNAME:ullastrell@ullastrell.cat
X-WR-TIMEZONE:Europe/Madrid
DESCRIPTION:Sortida dels autocars cap a Barcelona des de l'aparcament de la carretera d'Olesa, en dos torns:

1r. Torn: 
Sortida d'Ullastrell a les 12:30h. i tornada de Barcelona a les 20:30h. 

 

 2n. Torn: 
Sortida d'Ullastrell a les 14:00h. i tornada de Barcelona a les 19:00h.
Lloc: Aparcament Crta. OlesaOrganitzador: ANC - ULLASTRELL
URI:https://www.ullastrell.cat/actualitat/agenda/actes-11-de-setembre-via-lliure-cap-a-la-republica-catalana.html
CLASS:PUBLIC
END:VEVENT
END:VCALENDAR
