BEGIN:VCALENDAR
VERSION:2.0
CALSCALE:GREGORIAN
PRODID:-//Diputació de Barcelona//DibaCMS//EN
BEGIN:VEVENT
UID:2508
DTSTAMP:20260422T143752
DTSTART:20150917T200000
DTEND:20150917T000000
SUMMARY:REUNIONS DE BARRI
LOCATION:
METHOD:PUBLISH
X-WR-CALNAME:ullastrell@ullastrell.cat
X-WR-TIMEZONE:Europe/Madrid
DESCRIPTION:Es reemprenen les reunions de barri, on els membres del Govern municipal es desplacen a cada barri per tal de captar in situ les necessitats i mancances que els veïns els hi comuniquin.
S'inicia la ronda de reunions amb els veïns i veïnes de Can Cabassa.Lloc: Can Cabassa - davant les bústiesOrganitzador: Ajuntament 
URI:https://www.ullastrell.cat/actualitat/agenda/reunions-de-barri.html
CLASS:PUBLIC
END:VEVENT
END:VCALENDAR
