BEGIN:VCALENDAR
VERSION:2.0
CALSCALE:GREGORIAN
PRODID:-//Diputació de Barcelona//DibaCMS//EN
BEGIN:VEVENT
UID:2509
DTSTAMP:20260422T113142
DTSTART:20150927T090000
DTEND:20150927T200000
SUMMARY:ELECCIONS AL PARLAMENT DE CATALUNYA
LOCATION:
METHOD:PUBLISH
X-WR-CALNAME:ullastrell@ullastrell.cat
X-WR-TIMEZONE:Europe/Madrid
DESCRIPTION:Eleccions al Parlament de CatalunyaLloc: Plaça de les Escoles Organitzador: 
URI:https://www.ullastrell.cat/actualitat/agenda/eleccions-al-parlament-de-catalunya.html
CLASS:PUBLIC
END:VEVENT
END:VCALENDAR
