BEGIN:VCALENDAR
VERSION:2.0
CALSCALE:GREGORIAN
PRODID:-//Diputació de Barcelona//DibaCMS//EN
BEGIN:VEVENT
UID:2510
DTSTAMP:20260422T160448
DTSTART:20151025T100000
DTEND:20151025T140000
SUMMARY:ULLASTROC, mercat d'intercanvi i 2ª mà
LOCATION:
METHOD:PUBLISH
X-WR-CALNAME:ullastrell@ullastrell.cat
X-WR-TIMEZONE:Europe/Madrid
DESCRIPTION:El diumenge 25, de 10h. a 14h., vine a xafardejar, passejar,... per l'ULLASTROC, el 5è. Mercat d'Intercanvi i segona mà que es farà al Carrer de la Serra, davant l'Ajuntament!
Segur que no marxes amb les mans buides!!!
Ah!!! I si vols posar parada, no oblidis de fer la inscripció a la Biblioteca o a l'Ajuntament ABANS DEL DIMECRES 21.
 
CARRER TALLAT: Estarà prohibit circular i estacionar des de la plaça Lluís Companys fins la cabina telefònica des de les 7:00 a les 15:00h.Lloc: C/ Serra - Davant AjuntamentOrganitzador: Patronat del Casal
URI:https://www.ullastrell.cat/actualitat/agenda/ullastroc-mercat-dintercanvi-i-2a-ma.html
CLASS:PUBLIC
END:VEVENT
END:VCALENDAR
