BEGIN:VCALENDAR
VERSION:2.0
CALSCALE:GREGORIAN
PRODID:-//Diputació de Barcelona//DibaCMS//EN
BEGIN:VEVENT
UID:2511
DTSTAMP:20260423T044449
DTSTART:20151022T200000
DTEND:20151022T210000
SUMMARY:REUNIÓ DE BARRI - Sardà  i Església
LOCATION:
METHOD:PUBLISH
X-WR-CALNAME:ullastrell@ullastrell.cat
X-WR-TIMEZONE:Europe/Madrid
DESCRIPTION:Dins de les reunions de barri que està portant a terme el govern municipal, aquest dijous és el torn dels veïns/es del c/Sardà, c/Nord, c/Ridameya i passatge, Pl. Padró, Ctra. Terrassa, c/Assumpció i Pl. Església.
Ens trobarem a les 8 de la tarda a la plaça de l'església.Lloc: Pl. EsglésiaOrganitzador: Aj. Ullastrell
URI:https://www.ullastrell.cat/actualitat/agenda/reunio-de-barri-sarda-i-esglesia.html
CLASS:PUBLIC
END:VEVENT
END:VCALENDAR
