BEGIN:VCALENDAR
VERSION:2.0
CALSCALE:GREGORIAN
PRODID:-//Diputació de Barcelona//DibaCMS//EN
BEGIN:VEVENT
UID:2514
DTSTAMP:20260422T190344
DTSTART:20151109T120000
DTEND:20151109T130000
SUMMARY:OFICINA MÒBIL DEL CONSUMIDOR - 09/11/2015
LOCATION:
METHOD:PUBLISH
X-WR-CALNAME:ullastrell@ullastrell.cat
X-WR-TIMEZONE:Europe/Madrid
DESCRIPTION:Oficina mòbil del consumidor, és un servei gratuït, on els consumidors poden fer consultes o queixes, relacionades amb tot tipus de factures tals com telefonia, companyies elèctriques, o qualsevol botiga, també sobre agencies de viatges, serveis contractats, assegurances etc. on un tècnic de la Diputació de Barcelona, us assessorarà dels passos a seguir.Lloc: DAVANT DE L'AJUNTAMENTOrganitzador: DIPUTACIÓ DE BARCELONA
URI:https://www.ullastrell.cat/actualitat/agenda/oficina-mobil-del-consumidor-09112015.html
CLASS:PUBLIC
END:VEVENT
END:VCALENDAR
