BEGIN:VCALENDAR
VERSION:2.0
CALSCALE:GREGORIAN
PRODID:-//Diputació de Barcelona//DibaCMS//EN
BEGIN:VEVENT
UID:2515
DTSTAMP:20260422T190119
DTSTART:20151119T170000
DTEND:20151119T000000
SUMMARY:CONFERÈNCIA: "EL VIATGE DE PRIMÀRIA A SECUNDÀRIA"
LOCATION:
METHOD:PUBLISH
X-WR-CALNAME:ullastrell@ullastrell.cat
X-WR-TIMEZONE:Europe/Madrid
DESCRIPTION:Xerrada informativa i formativa per a les famílies que tenen fills/es a 5è i 6è de primària, amb l'objectiu de descobrir tota una sèrie d'aspectes relacionats amb el canvi d'etapa educativa, obtenint eines i recursos per acompanyar els vostres fills/es en l'inici de la secundària.
Us hi esperem!Lloc: Biblioteca de l'Escola SerralavellaOrganitzador: 
URI:https://www.ullastrell.cat/actualitat/agenda/conferencia-el-viatge-de-primaria-a-secundaria.html
CLASS:PUBLIC
END:VEVENT
END:VCALENDAR
