BEGIN:VCALENDAR
VERSION:2.0
CALSCALE:GREGORIAN
PRODID:-//Diputació de Barcelona//DibaCMS//EN
BEGIN:VEVENT
UID:2518
DTSTAMP:20260423T061417
DTSTART:20151128T110000
DTEND:20151129T000000
SUMMARY:(R) EXPOSICIÓ: EL PROGRÉS, UN BOCÍ D'HISTÒRIA DEL MUNICIPI - 28/11/2015
LOCATION:
METHOD:PUBLISH
X-WR-CALNAME:ullastrell@ullastrell.cat
X-WR-TIMEZONE:Europe/Madrid
DESCRIPTION:Es podrà visitar els dies

14 i 15 de novembre d'11 a 14h
21 i 22 de novembre d'11 a 14h
28 i 29 de novembre d'11 a 14h

 Lloc: Espai Cultural El ProgrésOrganitzador: 
URI:https://www.ullastrell.cat/actualitat/agenda/r-exposicio-el-progres-un-boci-dhistoria-del-municipi-28112015.html
CLASS:PUBLIC
END:VEVENT
END:VCALENDAR
